BEGIN:VCALENDAR
VERSION:2.0
PRODID:eventora.com
BEGIN:VEVENT
UID:5aef5688-1a91-46d5-a691-567e8115d24e
DTSTAMP:20260421T090152Z
STATUS:CONFIRMED
DTSTART;TZID=GTB Standard Time:20250524T050000Z
DTEND;TZID=GTB Standard Time:20250524T140000Z
SUMMARY:ILS - ΕΚΠΑΙΔΕΥΣΗ ΕΠΙ ΤΗΣ ΕΝΤΑΤΙΚΗΣ ΘΕΡΑΠΕΙΑΣ ΣΑΒΒΑΤΟ 24 MAIOY 2025
LOCATION:ATT CENTER - Σωρού 35 - 151 25 Μαρούσι - Περιφερειακή ενότητα Βορείο
DESCRIPTION: 
BEGIN:VALARM
DESCRIPTION:ILS - ΕΚΠΑΙΔΕΥΣΗ ΕΠΙ ΤΗΣ ΕΝΤΑΤΙΚΗΣ ΘΕΡΑΠΕΙΑΣ ΣΑΒΒΑΤΟ 24 MAIOY 2025
TRIGGER:-PT15M
ACTION:DISPLAY
END:VALARM
TRANSP:OPAQUE
END:VEVENT
END:VCALENDAR
